BEGIN:VCALENDAR
VERSION:2.0
PRODID:-//Plone.org//NONSGML plone.app.event//EN
X-WR-TIMEZONE:Brazil/East
BEGIN:VEVENT
SUMMARY:“Fórum Municipal Permanente de Debates sobre a Proteção e Def
 esa dos Direitos dos Animais”
DTSTART;TZID=Brazil/East;VALUE=DATE-TIME:20191031T190000
DTSTAMP;VALUE=DATE-TIME:20260425T193517Z
UID:ee62c6977c1848d188391ede291126a0@www.patobranco.pr.leg.br
CREATED;VALUE=DATE-TIME:20191021T161014Z
DESCRIPTION: Será realizado o “Fórum Municipal Permanente de Debates s
 obre a Proteção e Defesa dos Direitos dos Animais”\, de acordo com a L
 ei Municipal nº 5.178\, de 10 de  julho de 2018\, e que terá como pauta 
 a Lei nº 4.433\, de 25 de setembro de 2014 - PROBEM.
LAST-MODIFIED;VALUE=DATE-TIME:20191112T175248Z
LOCATION:Plenário da Câmara Municipal de Pato Branco
URL:https://www.patobranco.pr.leg.br/institucional/eventos/201cforum-munic
 ipal-permanente-de-debates-sobre-a-protecao-e-defesa-dos-direitos-dos-anim
 ais201d
END:VEVENT
BEGIN:VTIMEZONE
TZID:Brazil/East
X-LIC-LOCATION:Brazil/East
BEGIN:DAYLIGHT
DTSTART;VALUE=DATE-TIME:20191020T010000
TZNAME:BRST
TZOFFSETFROM:-0300
TZOFFSETTO:-0200
END:DAYLIGHT
END:VTIMEZONE
END:VCALENDAR
