BEGIN:VCALENDAR
VERSION:2.0
PRODID:-//Plone.org//NONSGML plone.app.event//EN
X-WR-TIMEZONE:Brazil/East
BEGIN:VEVENT
SUMMARY:Audiência Pública de Prestação de Contas da Administração P
 ública Municipal referente ao 3º Quadrimestre de 2021.
DTSTART;TZID=Brazil/East;VALUE=DATE-TIME:20220224T133000
DTSTAMP;VALUE=DATE-TIME:20260425T174114Z
UID:ec01f914e0cb47259704a0e831778a19@www.patobranco.pr.leg.br
CONTACT:(46) 3272-1500\, atendimento@patobranco.pr.leg.br\, https://sapl.p
 atobranco.pr.leg.br/audiencia/43
CREATED;VALUE=DATE-TIME:20220210T103620Z
LAST-MODIFIED;VALUE=DATE-TIME:20220213T123540Z
LOCATION:Plenário da Câmara Municipal de Pato Branco
URL:https://www.patobranco.pr.leg.br/institucional/eventos/audiencia-publi
 ca-de-prestacao-de-contas-da-administracao-publica-municipal-referente-ao-
 3o-quadrimestre-de-2021
END:VEVENT
BEGIN:VTIMEZONE
TZID:Brazil/East
X-LIC-LOCATION:Brazil/East
BEGIN:STANDARD
DTSTART;VALUE=DATE-TIME:20220219T230000
TZNAME:BRT
TZOFFSETFROM:-0200
TZOFFSETTO:-0300
END:STANDARD
END:VTIMEZONE
END:VCALENDAR
