BEGIN:VCALENDAR
VERSION:2.0
PRODID:-//Plone.org//NONSGML plone.app.event//EN
X-WR-TIMEZONE:Brazil/East
BEGIN:VEVENT
SUMMARY:Audiência Pública de Prestação de Contas da Secretaria Municip
 al de Saúde referente ao 2º Quadrimestre de 2022.
DTSTART;TZID=Brazil/East;VALUE=DATE-TIME:20220927T133000
DTSTAMP;VALUE=DATE-TIME:20260425T163407Z
UID:c19a9c5f4f324ee8aea2aa1df17a77c7@www.patobranco.pr.leg.br
CONTACT:Secretaria de Saúde\, (46) 3213-1700\, secsaude@patobranco.pr.gov
 .br
CREATED;VALUE=DATE-TIME:20220901T175755Z
DESCRIPTION:Empréstimo do Plenário da Câmara nos termos da Resolução 
 nº 11/2009.
LAST-MODIFIED;VALUE=DATE-TIME:20220901T175802Z
LOCATION:Plenário da Câmara Municipal de Pato Branco
URL:https://www.patobranco.pr.leg.br/institucional/eventos/audiencia-publi
 ca-de-prestacao-de-contas-da-secretaria-municipal-de-saude-referente-ao-2o
 -quadrimestre-de-2022
END:VEVENT
BEGIN:VTIMEZONE
TZID:Brazil/East
X-LIC-LOCATION:Brazil/East
BEGIN:STANDARD
DTSTART;VALUE=DATE-TIME:20220219T230000
TZNAME:BRT
TZOFFSETFROM:-0200
TZOFFSETTO:-0300
END:STANDARD
END:VTIMEZONE
END:VCALENDAR
