BEGIN:VCALENDAR
VERSION:2.0
PRODID:-//Plone.org//NONSGML plone.app.event//EN
X-WR-TIMEZONE:Brazil/East
BEGIN:VEVENT
SUMMARY:Audiência Pública (Empréstimos do Plenário de acordo com a Res
 olução nº 11/2009)
DTSTART;TZID=Brazil/East;VALUE=DATE-TIME:20250221T133000
DTSTAMP;VALUE=DATE-TIME:20260425T230556Z
UID:a0eca284f88f413d8e50b2ddcf37d57e@www.patobranco.pr.leg.br
CONTACT:Secretária de Saúde
CREATED;VALUE=DATE-TIME:20250221T161632Z
DESCRIPTION:Audiência Pública de Prestação de Contas\, referente ao 3
 º Quadrimestre do ano de 2024\, da Secretaria Municipal de Saúde.
LAST-MODIFIED;VALUE=DATE-TIME:20250221T161650Z
LOCATION:Plenário da Câmara Municipal de Pato Branco
URL:https://www.patobranco.pr.leg.br/institucional/eventos/audiencia-publi
 ca-emprestimos-do-plenario-de-acordo-com-a-resolucao-no-11-2009
END:VEVENT
BEGIN:VTIMEZONE
TZID:Brazil/East
X-LIC-LOCATION:Brazil/East
BEGIN:STANDARD
DTSTART;VALUE=DATE-TIME:20250215T230000
TZNAME:BRT
TZOFFSETFROM:-0200
TZOFFSETTO:-0300
END:STANDARD
END:VTIMEZONE
END:VCALENDAR
