BEGIN:VCALENDAR
VERSION:2.0
PRODID:-//Plone.org//NONSGML plone.app.event//EN
X-WR-TIMEZONE:Brazil/East
BEGIN:VEVENT
SUMMARY:Audiência Pública para coletar subsídios para elaboração do P
 rojeto de Lei das Diretrizes Orçamentárias - LDO para o exercício de 20
 23.
DTSTART;TZID=Brazil/East;VALUE=DATE-TIME:20220510T133000
DTSTAMP;VALUE=DATE-TIME:20260425T194239Z
UID:f087831a3bf9494a9963327e809917fd@www.patobranco.pr.leg.br
CREATED;VALUE=DATE-TIME:20220413T191550Z
DESCRIPTION:Empréstimo do Plenário da Câmara nos termos da Resolução 
 nº 11/2009.
LAST-MODIFIED;VALUE=DATE-TIME:20220413T191602Z
LOCATION:Plenário da Câmara Municipal de Pato Branco
URL:https://www.patobranco.pr.leg.br/institucional/eventos/audiencia-publi
 ca-para-coletar-subsidios-para-elaboracao-do-projeto-de-lei-das-diretrizes
 -orcamentarias-ldo-para-o-exercicio-de-2023
END:VEVENT
BEGIN:VTIMEZONE
TZID:Brazil/East
X-LIC-LOCATION:Brazil/East
BEGIN:STANDARD
DTSTART;VALUE=DATE-TIME:20220219T230000
TZNAME:BRT
TZOFFSETFROM:-0200
TZOFFSETTO:-0300
END:STANDARD
END:VTIMEZONE
END:VCALENDAR
