BEGIN:VCALENDAR
VERSION:2.0
PRODID:-//Plone.org//NONSGML plone.app.event//EN
X-WR-TIMEZONE:Brazil/East
BEGIN:VEVENT
SUMMARY:AUDIÊNCIA PÚBLICA
DTSTART;TZID=Brazil/East;VALUE=DATE-TIME:20211109T133000
DTSTAMP;VALUE=DATE-TIME:20260425T194238Z
UID:ce7f84c5647d4d4d997ea82902da6c17@www.patobranco.pr.leg.br
CONTACT:(46) 3272-1500\, atendimento@patobranco.pr.leg.br\, https://sapl.p
 atobranco.pr.leg.br/audiencia/40
CREATED;VALUE=DATE-TIME:20211020T200347Z
DESCRIPTION:Debater o Projeto de Lei n° 175/2021\, que estima a receita e
  fixa a despesa do Município de Pato Branco para o exercício financeiro 
 de 2022 - LOA 2022.
LAST-MODIFIED;VALUE=DATE-TIME:20211025T200809Z
LOCATION:Plenário da Câmara Municipal de Pato Branco
URL:https://www.patobranco.pr.leg.br/institucional/eventos/audiencia-publi
 ca-para-debater-o-projeto-de-lei-ndeg-175-2021-loa-2022
END:VEVENT
BEGIN:VTIMEZONE
TZID:Brazil/East
X-LIC-LOCATION:Brazil/East
BEGIN:DAYLIGHT
DTSTART;VALUE=DATE-TIME:20211017T010000
TZNAME:BRST
TZOFFSETFROM:-0300
TZOFFSETTO:-0200
END:DAYLIGHT
END:VTIMEZONE
END:VCALENDAR
