BEGIN:VCALENDAR
VERSION:2.0
PRODID:-//Plone.org//NONSGML plone.app.event//EN
X-WR-TIMEZONE:Brazil/East
BEGIN:VEVENT
SUMMARY:Sessão Ordinária
DTSTART;TZID=Brazil/East;VALUE=DATE-TIME:20250326T133000
DTSTAMP;VALUE=DATE-TIME:20260425T105249Z
UID:4d174621c8384896898258d975586424@www.patobranco.pr.leg.br
ATTENDEE;CN="PARTICIPAÇÃO DE CONVIDADOS:";ROLE=REQ-PARTICIPANT:PARTICIPA
 ÇÃO DE CONVIDADOS:
ATTENDEE;CN="- Convidada pelo vereador Fabrício Preis de Mello - PL, atra
 vés do Requerimento nº 30 de 2025, a senhora Sandra Maria Capelli Mattia
 , Gerente da unidade do SEST/SENAT de Pato Branco.";ROLE=REQ-PARTICIPANT:-
  Convidada pelo vereador Fabrício Preis de Mello - PL, através do Requer
 imento nº 30 de 2025, a senhora Sandra Maria Capelli Mattia, Gerente da u
 nidade do SEST/SENAT de Pato Branco.
ATTENDEE;CN="Assunto: “Estrutura do SEST/SENAT e os programas de qualifi
 cação profissional.”";ROLE=REQ-PARTICIPANT:Assunto: “Estrutura do SE
 ST/SENAT e os programas de qualificação profissional.”
ATTENDEE;CN="- Convidada pelo vereador Fabrício Preis de Mello - PL, atra
 vés do Requerimento nº 186 de 2025, a senhora Maria Cristina de Oliveira
  Rodrigues Hamera.";ROLE=REQ-PARTICIPANT:- Convidada pelo vereador Fabríc
 io Preis de Mello - PL, através do Requerimento nº 186 de 2025, a senhor
 a Maria Cristina de Oliveira Rodrigues Hamera.
ATTENDEE;CN="Assunto: “Cronograma de ações da Secretaria da Mulher.”
 ";ROLE=REQ-PARTICIPANT:Assunto: “Cronograma de ações da Secretaria da 
 Mulher.”
CONTACT:(46) 3272-1500\, https://sapl.patobranco.pr.leg.br/sessao/
CREATED;VALUE=DATE-TIME:20250129T165457Z
LAST-MODIFIED;VALUE=DATE-TIME:20250318T163957Z
LOCATION:Plenário da Câmara Municipal de Pato Branco
URL:https://www.patobranco.pr.leg.br/institucional/eventos/copy13_of_event
 .2025-01-29.7235094291
END:VEVENT
BEGIN:VTIMEZONE
TZID:Brazil/East
X-LIC-LOCATION:Brazil/East
BEGIN:STANDARD
DTSTART;VALUE=DATE-TIME:20250215T230000
TZNAME:BRT
TZOFFSETFROM:-0200
TZOFFSETTO:-0300
END:STANDARD
END:VTIMEZONE
END:VCALENDAR
