BEGIN:VCALENDAR
VERSION:2.0
PRODID:-//Plone.org//NONSGML plone.app.event//EN
X-WR-TIMEZONE:Brazil/East
BEGIN:VEVENT
SUMMARY:Sessão Ordinária
DTSTART;TZID=Brazil/East;VALUE=DATE-TIME:20250416T133000
DTSTAMP;VALUE=DATE-TIME:20260423T222654Z
UID:4d174621c8384896898258d975586424@www.patobranco.pr.leg.br
ATTENDEE;CN="PARTICIPAÇÃO DE CONVIDADOS:";ROLE=REQ-PARTICIPANT:PARTICIPA
 ÇÃO DE CONVIDADOS:
ATTENDEE;CN="Convidado pela vereadora Anne Gomes - PSD, através do Requer
 imento nº 253 de 2025, representante da Secretaria Municipal de Saúde.";
 ROLE=REQ-PARTICIPANT:Convidado pela vereadora Anne Gomes - PSD, através d
 o Requerimento nº 253 de 2025, representante da Secretaria Municipal de S
 aúde.
ATTENDEE;CN="Assunto: “Fechamento do Laboratório Central Municipal.”"
 ;ROLE=REQ-PARTICIPANT:Assunto: “Fechamento do Laboratório Central Munic
 ipal.”
CONTACT:(46) 3272-1500\, https://sapl.patobranco.pr.leg.br/sessao/
CREATED;VALUE=DATE-TIME:20250129T170038Z
LAST-MODIFIED;VALUE=DATE-TIME:20250331T184518Z
LOCATION:Plenário da Câmara Municipal de Pato Branco
URL:https://www.patobranco.pr.leg.br/institucional/eventos/copy19_of_event
 .2025-01-29.7235094291
END:VEVENT
BEGIN:VTIMEZONE
TZID:Brazil/East
X-LIC-LOCATION:Brazil/East
BEGIN:STANDARD
DTSTART;VALUE=DATE-TIME:20250215T230000
TZNAME:BRT
TZOFFSETFROM:-0200
TZOFFSETTO:-0300
END:STANDARD
END:VTIMEZONE
END:VCALENDAR
