BEGIN:VCALENDAR
VERSION:2.0
PRODID:-//Plone.org//NONSGML plone.app.event//EN
X-WR-TIMEZONE:Brazil/East
BEGIN:VEVENT
SUMMARY:Sessão Ordinária
DTSTART;TZID=Brazil/East;VALUE=DATE-TIME:20250423T133000
DTSTAMP;VALUE=DATE-TIME:20260424T010111Z
UID:4d174621c8384896898258d975586424@www.patobranco.pr.leg.br
ATTENDEE;CN="PARTICIPAÇÃO DE CONVIDADOS:";ROLE=REQ-PARTICIPANT:PAR
 TICIPAÇÃO DE CONVIDADOS:
ATTENDEE;CN="Convidado pela vereadora Thania Caminski - PP, através do Re
 querimento nº 300 de 2025, o senhor Agnaldo Luiz Rampanelli.";ROLE=REQ-PA
 RTICIPANT:Convidado pela vereadora Thania Caminski - PP, através do Reque
 rimento nº 300 de 2025, o senhor Agnaldo Luiz Rampanelli.
ATTENDEE;CN="Assunto: Projeto Jovem Bombeiro.";ROLE=REQ-PARTICIPANT:Assunt
 o: Projeto Jovem Bombeiro.
CONTACT:(46) 3272-1500\, https://sapl.patobranco.pr.leg.br/sessao/
CREATED;VALUE=DATE-TIME:20250129T170040Z
LAST-MODIFIED;VALUE=DATE-TIME:20250407T194648Z
LOCATION:Plenário da Câmara Municipal de Pato Branco
URL:https://www.patobranco.pr.leg.br/institucional/eventos/copy20_of_event
 .2025-01-29.7235094291
END:VEVENT
BEGIN:VTIMEZONE
TZID:Brazil/East
X-LIC-LOCATION:Brazil/East
BEGIN:STANDARD
DTSTART;VALUE=DATE-TIME:20250215T230000
TZNAME:BRT
TZOFFSETFROM:-0200
TZOFFSETTO:-0300
END:STANDARD
END:VTIMEZONE
END:VCALENDAR
