BEGIN:VCALENDAR
VERSION:2.0
PRODID:-//Plone.org//NONSGML plone.app.event//EN
X-WR-TIMEZONE:Brazil/East
BEGIN:VEVENT
SUMMARY:Sessão Ordinária
DTSTART;TZID=Brazil/East;VALUE=DATE-TIME:20241209T133000
DTSTAMP;VALUE=DATE-TIME:20260424T165153Z
UID:09ff3e8c1b9845fa9b0f94572825d3f9@www.patobranco.pr.leg.br
ATTENDEE;CN="PARTICIPAÇÃO DE CONVIDADOS:";ROLE=REQ-PARTICIPANT:PARTICIPA
 ÇÃO DE CONVIDADOS:
ATTENDEE;CN="Convocado pelos vereadores Claudemir Zanco - PL, Maria Cristi
 na de Oliveira Rodrigues Hamera - União e Romulo Faggion - União, atrav
 és do Requerimento nº 1455 de 2024, o senhor Edegar Luiz Del Sent, Secre
 tário de Administração e Finanças.";ROLE=REQ-PARTICIPANT:Convocado pel
 os vereadores Claudemir Zanco - PL, Maria Cristina de Oliveira Rodrigues H
 amera - União e Romulo Faggion - União, através do Requerimento nº 145
 5 de 2024, o senhor Edegar Luiz Del Sent, Secretário de Administração e
  Finanças.
ATTENDEE;CN="Assunto: Explicações sobre os empenhos referentes à Policl
 ínica Pato Branco e o Consórcio Conims e demais pagamentos que não fora
 m efetuados; aditivo para a Arena; situação financeira do Município, en
 tre outros assuntos referentes à pasta.";ROLE=REQ-PARTICIPANT:Assunto: Ex
 plicações sobre os empenhos referentes à Policlínica Pato Branco e o C
 onsórcio Conims e demais pagamentos que não foram efetuados; aditivo par
 a a Arena; situação financeira do Município, entre outros assuntos refe
 rentes à pasta.
CONTACT:(46) 3272-1500\, https://sapl.patobranco.pr.leg.br/sessao/pesquisa
 r-sessao
CREATED;VALUE=DATE-TIME:20240126T213201Z
LAST-MODIFIED;VALUE=DATE-TIME:20241128T170724Z
LOCATION:Plenário da Câmara Municipal de Pato Branco
URL:https://www.patobranco.pr.leg.br/institucional/eventos/copy78_of_event
 .2024-01-26.6989173492
END:VEVENT
BEGIN:VTIMEZONE
TZID:Brazil/East
X-LIC-LOCATION:Brazil/East
BEGIN:DAYLIGHT
DTSTART;VALUE=DATE-TIME:20241020T010000
TZNAME:BRST
TZOFFSETFROM:-0300
TZOFFSETTO:-0200
END:DAYLIGHT
END:VTIMEZONE
END:VCALENDAR
