BEGIN:VCALENDAR
VERSION:2.0
PRODID:-//Plone.org//NONSGML plone.app.event//EN
X-WR-TIMEZONE:Brazil/East
BEGIN:VEVENT
SUMMARY:Empréstimo do Plenário da Câmara nos termos da Resolução nº 
 11/2009
DTSTART;TZID=Brazil/East;VALUE=DATE-TIME:20220428T170000
DTEND;TZID=Brazil/East;VALUE=DATE-TIME:20220428T230000
DTSTAMP;VALUE=DATE-TIME:20260425T193030Z
UID:10acfa5f376e45bfba1878a4db375c4c@www.patobranco.pr.leg.br
CONTACT:Samuel Staczewski Santos\, (46) 99117-7665\, samuelstasantos@gmail
 .com
CREATED;VALUE=DATE-TIME:20220407T162433Z
DESCRIPTION:Evento da Caravana da Esperança\, atividade realizada pela Ex
 ecutiva Estadual do PT do Paraná.
LAST-MODIFIED;VALUE=DATE-TIME:20220419T185455Z
LOCATION:Plenário da Câmara Municipal de Pato Branco
URL:https://www.patobranco.pr.leg.br/institucional/eventos/emprestimo-do-p
 lenario-da-camara-nos-termos-da-resolucao-no-11-2009-29
END:VEVENT
BEGIN:VTIMEZONE
TZID:Brazil/East
X-LIC-LOCATION:Brazil/East
BEGIN:STANDARD
DTSTART;VALUE=DATE-TIME:20220219T230000
TZNAME:BRT
TZOFFSETFROM:-0200
TZOFFSETTO:-0300
END:STANDARD
END:VTIMEZONE
END:VCALENDAR
