BEGIN:VCALENDAR
VERSION:2.0
PRODID:-//Plone.org//NONSGML plone.app.event//EN
X-WR-TIMEZONE:Brazil/East
BEGIN:VEVENT
SUMMARY:Empréstimo do Plenário de acordo com a Resolução nº 11/2009
DTSTART;TZID=Brazil/East;VALUE=DATE-TIME:20250507T180000
DTSTAMP;VALUE=DATE-TIME:20260424T014020Z
UID:0cb2b11a7db5431e9a202c27b16285d7@www.patobranco.pr.leg.br
CONTACT:Juliano Riboli (Presidente CONSEG Pato Branco)
CREATED;VALUE=DATE-TIME:20250505T161612Z
DESCRIPTION:Entrega da Carta Constitutiva pelo C-Conseg ao CONSEG Pato Bra
 nco
LAST-MODIFIED;VALUE=DATE-TIME:20250505T161730Z
LOCATION:Plenário da Câmara Municipal de Pato Branco
URL:https://www.patobranco.pr.leg.br/institucional/eventos/emprestimo-do-p
 lenario-de-acordo-com-a-resolucao-no-11-2009-5
END:VEVENT
BEGIN:VTIMEZONE
TZID:Brazil/East
X-LIC-LOCATION:Brazil/East
BEGIN:STANDARD
DTSTART;VALUE=DATE-TIME:20250215T230000
TZNAME:BRT
TZOFFSETFROM:-0200
TZOFFSETTO:-0300
END:STANDARD
END:VTIMEZONE
END:VCALENDAR
