BEGIN:VCALENDAR
VERSION:2.0
PRODID:-//Plone.org//NONSGML plone.app.event//EN
X-WR-TIMEZONE:Brazil/East
BEGIN:VEVENT
SUMMARY:Empréstimo do Plenário de acordo com a Resolução nº 6\, de 27
  de agosto de 2025
DTSTART;TZID=Brazil/East;VALUE=DATE-TIME:20250909T130000
DTEND;TZID=Brazil/East;VALUE=DATE-TIME:20250912T180000
DTSTAMP;VALUE=DATE-TIME:20260425T193524Z
UID:22bd36feff6a433e926e2b336bf25d31@www.patobranco.pr.leg.br
CONTACT:Secretaria de Políticas para as Mulheres - Maria Cristina de Oliv
 eira Rodrigues Hamera\, (46) 99973-1425\, secmuher@patobranco.pr.gov.br
CREATED;VALUE=DATE-TIME:20250908T185507Z
DESCRIPTION:Cátedra de Empoderamento e Empreendedorismo Feminino
LAST-MODIFIED;VALUE=DATE-TIME:20250908T185523Z
LOCATION:Plenário da Câmara Municipal de Pato Branco
URL:https://www.patobranco.pr.leg.br/institucional/eventos/emprestimo-do-p
 lenario-de-acordo-com-a-resolucao-no-6-de-27-de-agosto-de-2025
END:VEVENT
BEGIN:VTIMEZONE
TZID:Brazil/East
X-LIC-LOCATION:Brazil/East
BEGIN:STANDARD
DTSTART;VALUE=DATE-TIME:20250215T230000
TZNAME:BRT
TZOFFSETFROM:-0200
TZOFFSETTO:-0300
END:STANDARD
END:VTIMEZONE
END:VCALENDAR
