BEGIN:VCALENDAR
VERSION:2.0
PRODID:-//Plone.org//NONSGML plone.app.event//EN
X-WR-TIMEZONE:Brazil/East
BEGIN:VEVENT
SUMMARY:Empréstimo do plenário de sessões nos termos da Resolução nº
  11/2009
DTSTART;TZID=Brazil/East;VALUE=DATE-TIME:20260312T190000
DTSTAMP;VALUE=DATE-TIME:20260425T204504Z
UID:30b498e9e15f472cb0ca5745e8deb942@www.patobranco.pr.leg.br
CREATED;VALUE=DATE-TIME:20260304T182424Z
DESCRIPTION:Reunião de prestação de contas do mandato do Deputado Estad
 ual Requião Filho
LAST-MODIFIED;VALUE=DATE-TIME:20260304T182428Z
LOCATION:Plenário de Sessões da Câmara
URL:https://www.patobranco.pr.leg.br/institucional/eventos/emprestimo-do-p
 lenario-de-sessoes-nos-termos-da-resolucao-no-11-2009-10
END:VEVENT
BEGIN:VTIMEZONE
TZID:Brazil/East
X-LIC-LOCATION:Brazil/East
BEGIN:STANDARD
DTSTART;VALUE=DATE-TIME:20260221T230000
TZNAME:BRT
TZOFFSETFROM:-0200
TZOFFSETTO:-0300
END:STANDARD
END:VTIMEZONE
END:VCALENDAR
