BEGIN:VCALENDAR
VERSION:2.0
PRODID:-//Plone.org//NONSGML plone.app.event//EN
X-WR-TIMEZONE:Brazil/East
BEGIN:VEVENT
SUMMARY:Empréstimo do plenário de sessões nos termos da Resolução nº
  11/2009
DTSTART;VALUE=DATE:20250515
DTEND;VALUE=DATE:20250517
DTSTAMP;VALUE=DATE-TIME:20260425T165933Z
UID:30a546ff67d74934b928c20b19df809c@www.patobranco.pr.leg.br
CONTACT:SEMIPI - Secretaria da Mulher\, Igualdade Racial e Pessoa Idosa e 
 Secretaria da Mulher de Pato Branco
CREATED;VALUE=DATE-TIME:20250505T161706Z
DESCRIPTION:Capacitações Macrorregionais\, visando a “Qualificação d
 a Política para Mulheres e Gestão de Recursos”.
LAST-MODIFIED;VALUE=DATE-TIME:20250505T161717Z
LOCATION:Plenário da Câmara Municipal de Pato Branco
URL:https://www.patobranco.pr.leg.br/institucional/eventos/emprestimo-do-p
 lenario-de-sessoes-nos-termos-da-resolucao-no-11-2009-4
END:VEVENT
END:VCALENDAR
