BEGIN:VCALENDAR
VERSION:2.0
PRODID:-//Plone.org//NONSGML plone.app.event//EN
X-WR-TIMEZONE:Brazil/East
BEGIN:VEVENT
SUMMARY:Empréstimo do plenário de sessões nos termos da Resolução nº
  6/2025
DTSTART;TZID=Brazil/East;VALUE=DATE-TIME:20251113T080000
DTEND;TZID=Brazil/East;VALUE=DATE-TIME:20251113T120000
DTSTAMP;VALUE=DATE-TIME:20260425T205354Z
UID:a9929004a78c48299971df8f61ae717a@www.patobranco.pr.leg.br
CREATED;VALUE=DATE-TIME:20251030T204001Z
DESCRIPTION:SOLENIDADE DE ENTREGA DE MEDALHAS A SERVIDORES POLICIAIS CIVIS
  
LAST-MODIFIED;VALUE=DATE-TIME:20251030T204054Z
LOCATION:Plenário da Câmara Municipal
URL:https://www.patobranco.pr.leg.br/institucional/eventos/emprestimo-do-p
 lenario-de-sessoes-nos-termos-da-resolucao-no-6-2025
END:VEVENT
BEGIN:VTIMEZONE
TZID:Brazil/East
X-LIC-LOCATION:Brazil/East
BEGIN:DAYLIGHT
DTSTART;VALUE=DATE-TIME:20251019T010000
TZNAME:BRST
TZOFFSETFROM:-0300
TZOFFSETTO:-0200
END:DAYLIGHT
END:VTIMEZONE
END:VCALENDAR
