BEGIN:VCALENDAR
VERSION:2.0
PRODID:-//Plone.org//NONSGML plone.app.event//EN
X-WR-TIMEZONE:Brazil/East
BEGIN:VEVENT
SUMMARY:Empréstimos do Plenário de acordo com a Resolução nº 11/2009
DTSTART;TZID=Brazil/East;VALUE=DATE-TIME:20241119T120000
DTEND;TZID=Brazil/East;VALUE=DATE-TIME:20241119T180000
DTSTAMP;VALUE=DATE-TIME:20260425T165933Z
UID:d903f8b948e84185962115e8d00b14cf@www.patobranco.pr.leg.br
CONTACT:Polícia Rodoviária Federal
CREATED;VALUE=DATE-TIME:20241111T194920Z
DESCRIPTION:Evento para a entrega das medalhas homenageando os servidores 
 pelo cumprimento de 10\, 20 e 30 anos de serviço na PRF\; homenagem ao GA
 EMA pela celebração de TACs a respeito de crimes ambientais\; e passagem
  de comando da Delegacia da PRF em Pato Branco.
LAST-MODIFIED;VALUE=DATE-TIME:20241111T194927Z
LOCATION:Plenário da Câmara Municipal de Pato Branco
URL:https://www.patobranco.pr.leg.br/institucional/eventos/emprestimos-do-
 plenario-de-acordo-com-a-resolucao-no-11-2009-4
END:VEVENT
BEGIN:VTIMEZONE
TZID:Brazil/East
X-LIC-LOCATION:Brazil/East
BEGIN:DAYLIGHT
DTSTART;VALUE=DATE-TIME:20241020T010000
TZNAME:BRST
TZOFFSETFROM:-0300
TZOFFSETTO:-0200
END:DAYLIGHT
END:VTIMEZONE
END:VCALENDAR
