BEGIN:VCALENDAR
VERSION:2.0
PRODID:-//Plone.org//NONSGML plone.app.event//EN
X-WR-TIMEZONE:Brazil/East
BEGIN:VEVENT
SUMMARY:Encerramento das atividades da Procuradoria da Mulher
DTSTART;TZID=Brazil/East;VALUE=DATE-TIME:20241209T190000
DTEND;TZID=Brazil/East;VALUE=DATE-TIME:20241209T223000
DTSTAMP;VALUE=DATE-TIME:20260425T165933Z
UID:1d83474398394c769fe6f9e64904f9c8@www.patobranco.pr.leg.br
CONTACT:Vereadora Maria Cristina de O. R. Hamera - União\, (46)3272-1521\
 , vereadoracrishamera@patobranco.pr.leg.br
CREATED;VALUE=DATE-TIME:20241129T160151Z
DESCRIPTION:Evento Defesa Pessoal
LAST-MODIFIED;VALUE=DATE-TIME:20241129T160154Z
LOCATION:Plenário da Câmara Municipal de Pato Branco
URL:https://www.patobranco.pr.leg.br/institucional/eventos/encerramento-da
 s-atividades-da-procuradoria-da-mulher
END:VEVENT
BEGIN:VTIMEZONE
TZID:Brazil/East
X-LIC-LOCATION:Brazil/East
BEGIN:DAYLIGHT
DTSTART;VALUE=DATE-TIME:20241020T010000
TZNAME:BRST
TZOFFSETFROM:-0300
TZOFFSETTO:-0200
END:DAYLIGHT
END:VTIMEZONE
END:VCALENDAR
