BEGIN:VCALENDAR
VERSION:2.0
PRODID:-//Plone.org//NONSGML plone.app.event//EN
X-WR-TIMEZONE:Brazil/East
BEGIN:VEVENT
SUMMARY:Sessão Ordinária
DTSTART;TZID=Brazil/East;VALUE=DATE-TIME:20230306T133000
DTSTAMP;VALUE=DATE-TIME:20260421T030901Z
UID:df1486a07455475c96f2f9a17ee71399@www.patobranco.pr.leg.br
CONTACT:(46) 3272-1500\, atendimento@patobranco.pr.leg.br\, https://sapl.p
 atobranco.pr.leg.br/sessao/2257
CREATED;VALUE=DATE-TIME:20230125T152713Z
DESCRIPTION:As sessões da Câmara\, provisoriamente\, estão sendo realiz
 adas em outros locais\, conforme Resolução nº 1/2023.
LAST-MODIFIED;VALUE=DATE-TIME:20230302T181030Z
LOCATION:Local:  Auditório do Centro de Esportes e Arte - Ceu das Artes\,
  localizado na Rua São Tomé\, Bairro Sudoeste.
URL:https://www.patobranco.pr.leg.br/institucional/eventos/event.2023-01-2
 5.3865228856
END:VEVENT
BEGIN:VTIMEZONE
TZID:Brazil/East
X-LIC-LOCATION:Brazil/East
BEGIN:STANDARD
DTSTART;VALUE=DATE-TIME:20230225T230000
TZNAME:BRT
TZOFFSETFROM:-0200
TZOFFSETTO:-0300
END:STANDARD
END:VTIMEZONE
END:VCALENDAR
