BEGIN:VCALENDAR
VERSION:2.0
PRODID:-//Plone.org//NONSGML plone.app.event//EN
X-WR-TIMEZONE:Brazil/East
BEGIN:VEVENT
SUMMARY:Sessão Ordinária
DTSTART;TZID=Brazil/East;VALUE=DATE-TIME:20230911T133000
DTSTAMP;VALUE=DATE-TIME:20260419T090549Z
UID:a2e4dc6a6bc840d88e42dbabac15a7cf@www.patobranco.pr.leg.br
CONTACT:(46) 3272-1500\, atendimento@patobranco.pr.leg.br\, https://sapl.p
 atobranco.pr.leg.br/sessao/2310
CREATED;VALUE=DATE-TIME:20230719T164423Z
LAST-MODIFIED;VALUE=DATE-TIME:20230906T180145Z
LOCATION:Plenário da Câmara Municipal de Pato Branco
URL:https://www.patobranco.pr.leg.br/institucional/eventos/event.2023-07-1
 9.9976278958
END:VEVENT
BEGIN:VTIMEZONE
TZID:Brazil/East
X-LIC-LOCATION:Brazil/East
BEGIN:STANDARD
DTSTART;VALUE=DATE-TIME:20230225T230000
TZNAME:BRT
TZOFFSETFROM:-0200
TZOFFSETTO:-0300
END:STANDARD
END:VTIMEZONE
END:VCALENDAR
