BEGIN:VCALENDAR
VERSION:2.0
PRODID:-//Plone.org//NONSGML plone.app.event//EN
X-WR-TIMEZONE:Brazil/East
BEGIN:VEVENT
SUMMARY:Posse da nova Procuradora da Mulher\, da Câmara Municipal de Pato
  Branco
DTSTART;TZID=Brazil/East;VALUE=DATE-TIME:20230214T150000
DTSTAMP;VALUE=DATE-TIME:20260425T193408Z
UID:2550d56533d4447fa0ee77fdc7c5d6c5@www.patobranco.pr.leg.br
CONTACT:(46) 3272-1500\, atendimento@patobranco.pr.leg.br
CREATED;VALUE=DATE-TIME:20230209T210125Z
DESCRIPTION:Gestão 2023\, vereadora Maria Cristina de Oliveira Rodrigues 
 Hamera (PV).
LAST-MODIFIED;VALUE=DATE-TIME:20230209T210218Z
LOCATION:Local: Auditório do Largo da Liberdade\, Rua Arariboia\, 1222\, 
 La Salle - Pato Branco/PR.
URL:https://www.patobranco.pr.leg.br/institucional/eventos/posse-da-nova-p
 rocuradora-da-mulher-da-camara-municipal-de-pato-branco
END:VEVENT
BEGIN:VTIMEZONE
TZID:Brazil/East
X-LIC-LOCATION:Brazil/East
BEGIN:DAYLIGHT
DTSTART;VALUE=DATE-TIME:20221016T010000
TZNAME:BRST
TZOFFSETFROM:-0300
TZOFFSETTO:-0200
END:DAYLIGHT
END:VTIMEZONE
END:VCALENDAR
