BEGIN:VCALENDAR
VERSION:2.0
PRODID:-//Plone.org//NONSGML plone.app.event//EN
X-WR-TIMEZONE:Brazil/East
BEGIN:VEVENT
SUMMARY:Primeira etapa do Projeto “Meninas de Futuro”
DTSTART;TZID=Brazil/East;VALUE=DATE-TIME:20250821T130000
DTEND;TZID=Brazil/East;VALUE=DATE-TIME:20250821T173000
DTSTAMP;VALUE=DATE-TIME:20260425T193502Z
UID:e541221e614947e5ad09ef77d7800c54@www.patobranco.pr.leg.br
CONTACT:Anne Gomes Vereadora e Procuradora da Mulher\, (46)3272-1521\, ann
 evereadora@patobranco.pr.leg.br
CREATED;VALUE=DATE-TIME:20250819T154508Z
DESCRIPTION:Primeira etapa do Projeto “Meninas de Futuro”
LAST-MODIFIED;VALUE=DATE-TIME:20250819T154511Z
LOCATION:Plenário da Câmara Municipal de Pato Branco
URL:https://www.patobranco.pr.leg.br/institucional/eventos/primeira-etapa-
 do-projeto-201cmeninas-de-futuro201d
END:VEVENT
BEGIN:VTIMEZONE
TZID:Brazil/East
X-LIC-LOCATION:Brazil/East
BEGIN:STANDARD
DTSTART;VALUE=DATE-TIME:20250215T230000
TZNAME:BRT
TZOFFSETFROM:-0200
TZOFFSETTO:-0300
END:STANDARD
END:VTIMEZONE
END:VCALENDAR
