BEGIN:VCALENDAR
VERSION:2.0
PRODID:-//Plone.org//NONSGML plone.app.event//EN
X-WR-TIMEZONE:Brazil/East
BEGIN:VEVENT
SUMMARY:Sessão Especial de Julgamento
DTSTART;TZID=Brazil/East;VALUE=DATE-TIME:20241202T100000
DTSTAMP;VALUE=DATE-TIME:20260425T200047Z
UID:78309edf92db40ffaff8c5959da20a47@www.patobranco.pr.leg.br
CONTACT:https://sapl.patobranco.pr.leg.br/sessao/pesquisar-sessao?data_ini
 cio__year=2024
CREATED;VALUE=DATE-TIME:20241128T170357Z
DESCRIPTION:O Presidente da Câmara Municipal de Pato Branco\, Estado do P
 araná\, vereador Eduardo Albani Dala Costa\, no uso de suas atribuições
  legais e regimentais\, CONVOCA os vereadores para a SESSÃO ESPECIAL DE J
 ULGAMENTO\, conforme estabelece o art. 20 do Código de Ética Parlamentar
 \, a ser realizada no dia 2 de dezembro de 2024\, com início às 10h (dez
  horas)\, para deliberação do Projeto de Resolução nº 7\, de 28 de no
 vembro de 2024\, que declara a improcedência da denúncia formulada contr
 a o vereador Rafael Celestrin\, nos termos do relatório final da Comissã
 o Especial de Ética Parlamentar.
LAST-MODIFIED;VALUE=DATE-TIME:20241128T170435Z
LOCATION:Plenário da Câmara Municipal de Pato Branco
URL:https://www.patobranco.pr.leg.br/institucional/eventos/sessao-especial
 -de-julgamento-3
END:VEVENT
BEGIN:VTIMEZONE
TZID:Brazil/East
X-LIC-LOCATION:Brazil/East
BEGIN:DAYLIGHT
DTSTART;VALUE=DATE-TIME:20241020T010000
TZNAME:BRST
TZOFFSETFROM:-0300
TZOFFSETTO:-0200
END:DAYLIGHT
END:VTIMEZONE
END:VCALENDAR
